BEGIN:VCALENDAR
VERSION:2.0
PRODID:-//OmniMagnetCalendar//EN
BEGIN:VEVENT
DTSTAMP:20190625T195740Z
STATUS:CONFIRMED
UID:hcminnesota.clubs.harvard.edu360
DTSTART:20161106T200000Z
DTEND:
LOCATION:LUV Ice Cream, 2587 7th Avenue East, North St. Paul, MN, 55109,
SUMMARY:TCAN: The Science of Chocolate
DESCRIPTION:Ever wondered how chocolate is made and the science behind it? Sponsored by the MIT Club of Minnesota. Kids welcome; space limited.
BEGIN:VALARM
TRIGGER:-PT15M
ACTION:DISPLAY
END:VALARM
TRANSP:OPAQUE
END:VEVENT
END:VCALENDAR
