BEGIN:VCALENDAR
VERSION:2.0
PRODID:-//OmniMagnetCalendar//EN
BEGIN:VEVENT
DTSTAMP:20190625T195740Z
STATUS:CONFIRMED
UID:hcminnesota.clubs.harvard.edu407
DTSTART:20170426T220000Z
DTEND:20170427T000000Z
LOCATION:The Freehouse, 701 N. Washington Ave., Ste 101, Minneapolis, MN, 55401,
SUMMARY:Ed School and Kennedy School Joint Happy Hour
DESCRIPTION:We’re mixing things up! Alumni of the Graduate School of Education and the Kennedy School are coming together for an evening of fun, drinks, and free nibbles. Join us at Freehouse, featuring an onsite brewery and handcrafted cocktails. Cash bar.
BEGIN:VALARM
TRIGGER:-PT15M
ACTION:DISPLAY
END:VALARM
TRANSP:OPAQUE
END:VEVENT
END:VCALENDAR
