BEGIN:VCALENDAR
VERSION:2.0
PRODID:-//OmniMagnetCalendar//EN
BEGIN:VEVENT
DTSTAMP:20190625T195740Z
STATUS:CONFIRMED
UID:hcminnesota.clubs.harvard.edu416
DTSTART:20170506T210000Z
DTEND:20170506T223000Z
LOCATION:US Bank Stadium, Lower Pentair Gate, South 6th Street & 11th Ave South, Minneapolis, MN,
SUMMARY:TCAN: US Bank Stadium Tour
DESCRIPTION:Join the Smith College Club of Minnesota for a tour of US Bank Stadium and optional drinks and food afterward at Erik the Red. Cost $15. Register by Wednesday, April 19.
BEGIN:VALARM
TRIGGER:-PT15M
ACTION:DISPLAY
END:VALARM
TRANSP:OPAQUE
END:VEVENT
END:VCALENDAR
