BEGIN:VCALENDAR
VERSION:2.0
PRODID:-//OmniMagnetCalendar//EN
BEGIN:VEVENT
DTSTAMP:20190625T195740Z
STATUS:CONFIRMED
UID:hcminnesota.clubs.harvard.edu420
DTSTART:20170608T223000Z
DTEND:20170609T003000Z
LOCATION:Greene Espel, 222 S 9th St, 22nd Floor, Suite #2200, Minneapolis, MN,
SUMMARY:TCAN: Prof. Patterson on Slavery's Legacies: Race and Racism in Contemporary Culture and Politics
DESCRIPTION:Lecture sponsored by the Georgetown Club. Free, hosted by Greene Espel.
BEGIN:VALARM
TRIGGER:-PT15M
ACTION:DISPLAY
END:VALARM
TRANSP:OPAQUE
END:VEVENT
END:VCALENDAR
