BEGIN:VCALENDAR
VERSION:2.0
PRODID:-//OmniMagnetCalendar//EN
BEGIN:VEVENT
DTSTAMP:20190625T195740Z
STATUS:CONFIRMED
UID:hcminnesota.clubs.harvard.edu430
DTSTART:20170719T230000Z
DTEND:20170720T020000Z
LOCATION:Lake Harriet Pavilion, 4135 W Lake Harriet Pkwy, Minneapolis, MN, 55409,
SUMMARY:Tour de TCAN Bike Event
DESCRIPTION:Please join alumni from NYU and the Twin Cities Alumni Network (TCAN) for our 7th annual summer bike ride event. Event is free, buy your own food/drinks at Bread & Pickle, Lake Harriet Pavilion.
BEGIN:VALARM
TRIGGER:-PT15M
ACTION:DISPLAY
END:VALARM
TRANSP:OPAQUE
END:VEVENT
END:VCALENDAR
