BEGIN:VCALENDAR
VERSION:2.0
PRODID:-//OmniMagnetCalendar//EN
BEGIN:VEVENT
DTSTAMP:20190625T195740Z
STATUS:CONFIRMED
UID:hcminnesota.clubs.harvard.edu444
DTSTART:20171104T133000Z
DTEND:20171104T213000Z
LOCATION:South Minneapolis--RSVP for specifics,
SUMMARY:TCAN: Habitat for Humanity
DESCRIPTION:Come build houses! We are looking for 10-13 volunteers for some new home construction. This is our third Habitat for Humanity event, and the first two were really fun and productive. Sponsored by the Yale Alumni Association of the Northwest.
BEGIN:VALARM
TRIGGER:-PT15M
ACTION:DISPLAY
END:VALARM
TRANSP:OPAQUE
END:VEVENT
END:VCALENDAR
