BEGIN:VCALENDAR
VERSION:2.0
PRODID:-//OmniMagnetCalendar//EN
BEGIN:VEVENT
DTSTAMP:20190625T195740Z
STATUS:CONFIRMED
UID:hcminnesota.clubs.harvard.edu465
DTSTART:20180310T020000Z
DTEND:
LOCATION:Orchestra Hall, 1111 Nicollet Mall, Minneapolis, MN, 55403,
SUMMARY:Pink Martini at Orchestra Hall
DESCRIPTION:Enjoy an evening of lively, multilingual music by Pink Martini, featuring Harvard grads Grant Lauderdale (bandleader), China Forbes (vocalist), and Sarah Hicks (conductor), followed by a reception with the artists. Purchase tickets by February 8.
BEGIN:VALARM
TRIGGER:-PT15M
ACTION:DISPLAY
END:VALARM
TRANSP:OPAQUE
END:VEVENT
END:VCALENDAR
