BEGIN:VCALENDAR
VERSION:2.0
PRODID:-//OmniMagnetCalendar//EN
BEGIN:VEVENT
DTSTAMP:20190625T195740Z
STATUS:CONFIRMED
UID:hcminnesota.clubs.harvard.edu495
DTSTART:20180717T220000Z
DTEND:20180718T000000Z
LOCATION:Beer Hall at Surly Brewery, 520 Malcolm Ave SE, Minneapolis, MN, 55414,
SUMMARY:Ed School and Kennedy School Joint Happy Hour
DESCRIPTION:We’re doing it again! Alumni of the Graduate School of Education and the Kennedy School are coming together for an evening of fun, drinks, and free nibbles. Join us in the Beer Hall at Surly Brewery. Cash bar.
BEGIN:VALARM
TRIGGER:-PT15M
ACTION:DISPLAY
END:VALARM
TRANSP:OPAQUE
END:VEVENT
END:VCALENDAR
