BEGIN:VCALENDAR
VERSION:2.0
PRODID:-//OmniMagnetCalendar//EN
BEGIN:VEVENT
DTSTAMP:20190625T195740Z
STATUS:CONFIRMED
UID:hcminnesota.clubs.harvard.edu515
DTSTART:20181202T190000Z
DTEND:20181202T210000Z
LOCATION:Minnesota State Capitol Building, 75 Rev. Dr. Martin Luther King Jr. Blvd, Saint Paul, MN, 55155,
SUMMARY:A Tour of the Newly-Restored Minnesota State Capitol Building
DESCRIPTION:A tour of our beautiful, newly-restored capitol building, designed by noted architect Cass Gilbert. The tour is led by Ted Lentz, AIA, member of the Capitol Preservation Commission. Limited to 30. Followed by an informal gathering nearby for refreshments.
BEGIN:VALARM
TRIGGER:-PT15M
ACTION:DISPLAY
END:VALARM
TRANSP:OPAQUE
END:VEVENT
END:VCALENDAR
