BEGIN:VCALENDAR
VERSION:2.0
PRODID:-//OmniMagnetCalendar//EN
BEGIN:VEVENT
DTSTAMP:20190625T195740Z
STATUS:CONFIRMED
UID:hcminnesota.clubs.harvard.edu569
DTSTART:20191017T233000Z
DTEND:20191018T010000Z
LOCATION:Minneapolis Institute of Art, Perlman Gallery 3rd Floor, 2400 Third Avenue South, Minneapolis, MN,
SUMMARY:TCAN: Strong Women, Full of Love: The Photography of Meadow Muska
DESCRIPTION:We have an opportunity to view these stunning photographs and enjoy a gallery talk and reception with Meadow and members of the MIA curatorial staff. Sponsored by the Smith College Club.
BEGIN:VALARM
TRIGGER:-PT15M
ACTION:DISPLAY
END:VALARM
TRANSP:OPAQUE
END:VEVENT
END:VCALENDAR
