BEGIN:VCALENDAR
VERSION:2.0
PRODID:-//OmniMagnetCalendar//EN
BEGIN:VEVENT
DTSTAMP:20190625T195740Z
STATUS:CONFIRMED
UID:hcminnesota.clubs.harvard.edu740
DTSTART:20230511T000000Z
DTEND:20230511T010000Z
LOCATION:Virtual,
SUMMARY:The Challenge of Climate Change: Path to a Low Carbon Future. A talk by Prof. Michael McElroy
DESCRIPTION:Harvard Prof. McElroy will address climate-related public policy challenges in developing and mature economies. A free, virtual lecture with Q&A.
BEGIN:VALARM
TRIGGER:-PT15M
ACTION:DISPLAY
END:VALARM
TRANSP:OPAQUE
END:VEVENT
END:VCALENDAR
