BEGIN:VCALENDAR
VERSION:2.0
PRODID:-//OmniMagnetCalendar//EN
BEGIN:VEVENT
DTSTAMP:20190625T195740Z
STATUS:CONFIRMED
UID:hcminnesota.clubs.harvard.edu742
DTSTART:20230330T210000Z
DTEND:20230330T223000Z
LOCATION:Federal Reserve Bank of Minneapolis, 90 Hennepin Avenue, Minneapolis, MN, 55401, USA,
SUMMARY: Harvard Club Event: A Talk and Tour of the Federal Reserve with Alene Tchourumoff and Abbie Wozniak
DESCRIPTION:Join us for a talk and tour of the Federal Reserve Bank of Minneapolis
BEGIN:VALARM
TRIGGER:-PT15M
ACTION:DISPLAY
END:VALARM
TRANSP:OPAQUE
END:VEVENT
END:VCALENDAR
