BEGIN:VCALENDAR
VERSION:2.0
PRODID:-//OmniMagnetCalendar//EN
BEGIN:VEVENT
DTSTAMP:20190625T195740Z
STATUS:CONFIRMED
UID:hcminnesota.clubs.harvard.edu750
DTSTART:20230521T190000Z
DTEND:20230521T220000Z
LOCATION:Ordway Music Theater, 345 Washington Street, Saint Paul, MN, 55102,
SUMMARY:Don Giovanni: So hot, he’ll burn.
DESCRIPTION:Join us for a performance of this classic opera! Generously discounted tickets available. Join us for lunch at Herbie's on the Park or attend Opera Insights before the performance. Sign up by Friday, May 19.
BEGIN:VALARM
TRIGGER:-PT15M
ACTION:DISPLAY
END:VALARM
TRANSP:OPAQUE
END:VEVENT
END:VCALENDAR
