BEGIN:VCALENDAR
VERSION:2.0
PRODID:-//OmniMagnetCalendar//EN
BEGIN:VEVENT
DTSTAMP:20190625T195740Z
STATUS:CONFIRMED
UID:hcminnesota.clubs.harvard.edu766
DTSTART:20231116T000000Z
DTEND:20231116T020000Z
LOCATION:Lunds & Byerlys on France Ave Edina, Community Room, 7171 France Ave S , Edina, MN, 55435,
SUMMARY:Entrepreneur Panel
DESCRIPTION:Don't Miss Out on the Entrepreneur Panel of the Year! The Wharton Club of MN and Harvard Club are thrilled to announce a can't-miss event that will inspire, educate, and empower you on your entrepreneurial journey! Join us for an exclusive Entrepreneur P
BEGIN:VALARM
TRIGGER:-PT15M
ACTION:DISPLAY
END:VALARM
TRANSP:OPAQUE
END:VEVENT
END:VCALENDAR
