BEGIN:VCALENDAR
VERSION:2.0
PRODID:-//OmniMagnetCalendar//EN
BEGIN:VEVENT
DTSTAMP:20190625T195740Z
STATUS:CONFIRMED
UID:hcminnesota.clubs.harvard.edu832
DTSTART:20251206T220000Z
DTEND:20251207T020000Z
LOCATION:Interlachen Country Club, 6200 Interlachen Blvd, Edina, MN, 55436,
SUMMARY:Annual Holiday Party - 2025
DESCRIPTION:Event is full
BEGIN:VALARM
TRIGGER:-PT15M
ACTION:DISPLAY
END:VALARM
TRANSP:OPAQUE
END:VEVENT
END:VCALENDAR
