BEGIN:VCALENDAR
VERSION:2.0
PRODID:-//OmniMagnetCalendar//EN
BEGIN:VEVENT
DTSTAMP:20190625T195740Z
STATUS:CONFIRMED
UID:hcminnesota.clubs.harvard.edu835
DTSTART:20251119T013000Z
DTEND:20251119T030000Z
LOCATION:Virtual,
SUMMARY:Harvard Book Club - Zoom Meeting, Tuesday, November 18, 2025
DESCRIPTION:Discuss The Sympathizer by Viet Thanh Nguyen
BEGIN:VALARM
TRIGGER:-PT15M
ACTION:DISPLAY
END:VALARM
TRANSP:OPAQUE
END:VEVENT
END:VCALENDAR
