BEGIN:VCALENDAR
VERSION:2.0
PRODID:-//OmniMagnetCalendar//EN
BEGIN:VEVENT
DTSTAMP:20190625T195740Z
STATUS:CONFIRMED
UID:hcminnesota.clubs.harvard.edu841
DTSTART:20260228T233000Z
DTEND:20260301T033000Z
LOCATION:Guthrie , 818 South 2nd Street, Minneapolis, MN, 55415,
SUMMARY:Macbeth at the Guthrie + Private Reception with Joe Haj
DESCRIPTION:A delicious and diabolical night out together to see Macbeth at the Guthrie, including private reception & discussion with Artistic Director Joe Haj. Your ticket includes apps, drink, and prime seating.
BEGIN:VALARM
TRIGGER:-PT15M
ACTION:DISPLAY
END:VALARM
TRANSP:OPAQUE
END:VEVENT
END:VCALENDAR
