BEGIN:VCALENDAR
VERSION:2.0
PRODID:-//OmniMagnetCalendar//EN
BEGIN:VEVENT
DTSTAMP:20190625T195740Z
STATUS:CONFIRMED
UID:hcminnesota.clubs.harvard.edu853
DTSTART:20261121T161500Z
DTEND:20261121T221500Z
LOCATION:USA,
SUMMARY:Save the Date: 142nd Harvard/Yale Game
DESCRIPTION:Annual afternoon of revelry and rivalry.
BEGIN:VALARM
TRIGGER:-PT15M
ACTION:DISPLAY
END:VALARM
TRANSP:OPAQUE
END:VEVENT
END:VCALENDAR
